BEGIN:VCALENDAR
VERSION:2.0
PRODID:-//Pennant Hills Netball Club - ECPv6.3.2//NONSGML v1.0//EN
CALSCALE:GREGORIAN
METHOD:PUBLISH
X-WR-CALNAME:Pennant Hills Netball Club
X-ORIGINAL-URL:https://pennanthillsnetball.com.au
X-WR-CALDESC:Events for Pennant Hills Netball Club
REFRESH-INTERVAL;VALUE=DURATION:PT1H
X-Robots-Tag:noindex
X-PUBLISHED-TTL:PT1H
BEGIN:VTIMEZONE
TZID:UTC
BEGIN:STANDARD
TZOFFSETFROM:+0000
TZOFFSETTO:+0000
TZNAME:UTC
DTSTART:20230101T000000
END:STANDARD
TZID:Australia/Melbourne
BEGIN:STANDARD
TZOFFSETFROM:+1100
TZOFFSETTO:+1000
TZNAME:AEST
DTSTART:20240406T160000
END:STANDARD
BEGIN:DAYLIGHT
TZOFFSETFROM:+1000
TZOFFSETTO:+1100
TZNAME:AEDT
DTSTART:20241005T160000
END:DAYLIGHT
END:VTIMEZONE
BEGIN:VEVENT
DTSTART;VALUE=DATE:20231201
DTEND;VALUE=DATE:20240302
DTSTAMP:20260421T225536
CREATED:20231205T000808Z
LAST-MODIFIED:20240213T081310Z
UID:2505-1701388800-1709337599@pennanthillsnetball.com.au
SUMMARY:Winter competition Online Registration - Seniors still open
DESCRIPTION:How to Register\nClick here or visit the Registration tab on the menu.\nPlease note that NetSetGo and Juniors are at capacity; if you want to register for NSG or Junior grades\, email phnc.registrar@gmail.com\, and we'll try to accommodate your child.  \nFor Seniors you can still register using the link above until March 1st.
URL:https://pennanthillsnetball.com.au/event/winter-competition-online-registration-open/
END:VEVENT
BEGIN:VEVENT
DTSTART;TZID=Australia/Melbourne:20240225T080000
DTEND;TZID=Australia/Melbourne:20240225T170000
DTSTAMP:20260421T225536
CREATED:20231205T002106Z
LAST-MODIFIED:20240215T031358Z
UID:2514-1708848000-1708880400@pennanthillsnetball.com.au
SUMMARY:Grading day
DESCRIPTION:PHNC Grading day schedule 2024 Grading day will be held on Sunday 25th February 2024 at the Indoor Court. \n  \nFor more information go to the 2024 Registration page on the website.
URL:https://pennanthillsnetball.com.au/event/grading-day/
LOCATION:Pennant Hills Netball Courts\, Pennant Hills Park\, Britannia St\, Pennant Hills NSW 2120\, Sydney\, 2120\, Australia
END:VEVENT
END:VCALENDAR