BEGIN:VCALENDAR
VERSION:2.0
PRODID:-//Pennant Hills Netball Club - ECPv6.3.2//NONSGML v1.0//EN
CALSCALE:GREGORIAN
METHOD:PUBLISH
X-WR-CALNAME:Pennant Hills Netball Club
X-ORIGINAL-URL:https://pennanthillsnetball.com.au
X-WR-CALDESC:Events for Pennant Hills Netball Club
REFRESH-INTERVAL;VALUE=DURATION:PT1H
X-Robots-Tag:noindex
X-PUBLISHED-TTL:PT1H
BEGIN:VTIMEZONE
TZID:Australia/Melbourne
BEGIN:STANDARD
TZOFFSETFROM:+1100
TZOFFSETTO:+1000
TZNAME:AEST
DTSTART:20240406T160000
END:STANDARD
BEGIN:DAYLIGHT
TZOFFSETFROM:+1000
TZOFFSETTO:+1100
TZNAME:AEDT
DTSTART:20241005T160000
END:DAYLIGHT
END:VTIMEZONE
BEGIN:VEVENT
DTSTART;VALUE=DATE:20240914
DTEND;VALUE=DATE:20240915
DTSTAMP:20260421T104239
CREATED:20231205T002541Z
LAST-MODIFIED:20231205T002541Z
UID:2522-1726272000-1726358399@pennanthillsnetball.com.au
SUMMARY:Grand Finals
DESCRIPTION:
URL:https://pennanthillsnetball.com.au/event/grand-finals/
END:VEVENT
END:VCALENDAR