BEGIN:VCALENDAR
VERSION:2.0
PRODID:-//Pennant Hills Netball Club - ECPv6.3.2//NONSGML v1.0//EN
CALSCALE:GREGORIAN
METHOD:PUBLISH
X-WR-CALNAME:Pennant Hills Netball Club
X-ORIGINAL-URL:https://pennanthillsnetball.com.au
X-WR-CALDESC:Events for Pennant Hills Netball Club
REFRESH-INTERVAL;VALUE=DURATION:PT1H
X-Robots-Tag:noindex
X-PUBLISHED-TTL:PT1H
BEGIN:VTIMEZONE
TZID:UTC
BEGIN:STANDARD
TZOFFSETFROM:+0000
TZOFFSETTO:+0000
TZNAME:UTC
DTSTART:20240101T000000
END:STANDARD
END:VTIMEZONE
BEGIN:VEVENT
DTSTART;TZID=UTC:20241025T164500
DTEND;TZID=UTC:20241025T180000
DTSTAMP:20260420T141640
CREATED:20240919T014248Z
LAST-MODIFIED:20240919T014248Z
UID:2888-1729874700-1729879200@pennanthillsnetball.com.au
SUMMARY:NetSetGO Skills Clinic 6-9 years
DESCRIPTION:Held at the Pennant Hills Netball Courts\, Britannia Street Pennant Hills\nSkills Clinics cost $20\, which covers all four sessions \nTerm 4 | 4:45 – 6:00 pm\nFriday October 25\nFriday November 1\nFriday November 8\nFriday November 15
URL:https://pennanthillsnetball.com.au/event/netsetgo-skills-clinic-6-9-years/
LOCATION:Pennant Hills Netball Courts\, Pennant Hills Park\, Britannia St\, Pennant Hills NSW 2120\, Sydney\, 2120\, Australia
END:VEVENT
END:VCALENDAR