BEGIN:VCALENDAR
VERSION:2.0
PRODID:-//Pennant Hills Netball Club - ECPv6.3.2//NONSGML v1.0//EN
CALSCALE:GREGORIAN
METHOD:PUBLISH
X-ORIGINAL-URL:https://pennanthillsnetball.com.au
X-WR-CALDESC:Events for Pennant Hills Netball Club
REFRESH-INTERVAL;VALUE=DURATION:PT1H
X-Robots-Tag:noindex
X-PUBLISHED-TTL:PT1H
BEGIN:VTIMEZONE
TZID:UTC
BEGIN:STANDARD
TZOFFSETFROM:+0000
TZOFFSETTO:+0000
TZNAME:UTC
DTSTART:20240101T000000
END:STANDARD
END:VTIMEZONE
BEGIN:VEVENT
DTSTART;TZID=UTC:20240411T080000
DTEND;TZID=UTC:20240411T170000
DTSTAMP:20260421T175400
CREATED:20240411T101350Z
LAST-MODIFIED:20240411T101350Z
UID:2693-1712822400-1712854800@pennanthillsnetball.com.au
SUMMARY:Late Registration for week 1
DESCRIPTION:Please ensure you email phnc.regstrar@gmail.com
URL:https://pennanthillsnetball.com.au/event/late-registration-for-week-1/
END:VEVENT
BEGIN:VEVENT
DTSTART;TZID=UTC:20240424T080000
DTEND;TZID=UTC:20240424T170000
DTSTAMP:20260421T175400
CREATED:20240411T100843Z
LAST-MODIFIED:20240411T100843Z
UID:2689-1713945600-1713978000@pennanthillsnetball.com.au
SUMMARY:Winter Competition – Fixtures available
DESCRIPTION:
URL:https://pennanthillsnetball.com.au/event/winter-competition-fixtures-available/
END:VEVENT
BEGIN:VEVENT
DTSTART;TZID=UTC:20240430T193000
DTEND;TZID=UTC:20240430T203000
DTSTAMP:20260421T175400
CREATED:20240411T101253Z
LAST-MODIFIED:20240411T101253Z
UID:2691-1714505400-1714509000@pennanthillsnetball.com.au
SUMMARY:Coach/Manager Meeting
DESCRIPTION:
URL:https://pennanthillsnetball.com.au/event/coach-manager-meeting/
END:VEVENT
END:VCALENDAR